BEGIN:VCALENDAR
VERSION:2.0
PRODID:-//Iras Briarwood Daycare - ECPv6.6.1//NONSGML v1.0//EN
CALSCALE:GREGORIAN
METHOD:PUBLISH
X-WR-CALNAME:Iras Briarwood Daycare
X-ORIGINAL-URL:https://irasdaycare.com
X-WR-CALDESC:Events for Iras Briarwood Daycare
REFRESH-INTERVAL;VALUE=DURATION:PT1H
X-Robots-Tag:noindex
X-PUBLISHED-TTL:PT1H
BEGIN:VTIMEZONE
TZID:UTC
BEGIN:STANDARD
TZOFFSETFROM:+0000
TZOFFSETTO:+0000
TZNAME:UTC
DTSTART:20250101T000000
END:STANDARD
END:VTIMEZONE
BEGIN:VEVENT
DTSTART;VALUE=DATE:20250217
DTEND;VALUE=DATE:20250218
DTSTAMP:20260414T083510
CREATED:20240807T163112Z
LAST-MODIFIED:20240807T163112Z
UID:10000005-1739750400-1739836799@irasdaycare.com
SUMMARY:Presidents Day (Schools Closed)
DESCRIPTION:
URL:https://irasdaycare.com/event/presidents-day-schools-closed/
END:VEVENT
BEGIN:VEVENT
DTSTART;VALUE=DATE:20250217
DTEND;VALUE=DATE:20250222
DTSTAMP:20260414T083510
CREATED:20240807T164048Z
LAST-MODIFIED:20240807T164048Z
UID:10000019-1739750400-1740182399@irasdaycare.com
SUMMARY:Midwinter Recess (Schools Closed UPK ONLY)
DESCRIPTION:
URL:https://irasdaycare.com/event/midwinter-recess-schools-closed-upk-only/
END:VEVENT
END:VCALENDAR