BEGIN:VCALENDAR
VERSION:2.0
PRODID:-//Iras Briarwood Daycare - ECPv6.6.1//NONSGML v1.0//EN
CALSCALE:GREGORIAN
METHOD:PUBLISH
X-ORIGINAL-URL:https://irasdaycare.com
X-WR-CALDESC:Events for Iras Briarwood Daycare
REFRESH-INTERVAL;VALUE=DURATION:PT1H
X-Robots-Tag:noindex
X-PUBLISHED-TTL:PT1H
BEGIN:VTIMEZONE
TZID:UTC
BEGIN:STANDARD
TZOFFSETFROM:+0000
TZOFFSETTO:+0000
TZNAME:UTC
DTSTART:20240101T000000
END:STANDARD
END:VTIMEZONE
BEGIN:VEVENT
DTSTART;VALUE=DATE:20241224
DTEND;VALUE=DATE:20250102
DTSTAMP:20260419T051318
CREATED:20240807T163849Z
LAST-MODIFIED:20240807T163849Z
UID:10000015-1734998400-1735775999@irasdaycare.com
SUMMARY:Winter Recess (School Closed UPK ONLY)
DESCRIPTION:
URL:https://irasdaycare.com/event/winter-recess-school-closed-upk-only/
END:VEVENT
BEGIN:VEVENT
DTSTART;VALUE=DATE:20241225
DTEND;VALUE=DATE:20241226
DTSTAMP:20260419T051318
CREATED:20240807T163012Z
LAST-MODIFIED:20240807T163012Z
UID:10000003-1735084800-1735171199@irasdaycare.com
SUMMARY:Christmas Day (Schools Closed)
DESCRIPTION:
URL:https://irasdaycare.com/event/christmas-day-schools-closed/
END:VEVENT
BEGIN:VEVENT
DTSTART;VALUE=DATE:20241231
DTEND;VALUE=DATE:20250101
DTSTAMP:20260419T051318
CREATED:20240807T163048Z
LAST-MODIFIED:20240807T163048Z
UID:10000004-1735603200-1735689599@irasdaycare.com
SUMMARY:Pick Up Is 1PM (Half A Day)
DESCRIPTION:
URL:https://irasdaycare.com/event/pick-up-is-1pm-half-a-day/
END:VEVENT
END:VCALENDAR