BEGIN:VCALENDAR
VERSION:2.0
PRODID:-//Iras Briarwood Daycare - ECPv6.6.1//NONSGML v1.0//EN
CALSCALE:GREGORIAN
METHOD:PUBLISH
X-WR-CALNAME:Iras Briarwood Daycare
X-ORIGINAL-URL:https://irasdaycare.com
X-WR-CALDESC:Events for Iras Briarwood Daycare
REFRESH-INTERVAL;VALUE=DURATION:PT1H
X-Robots-Tag:noindex
X-PUBLISHED-TTL:PT1H
BEGIN:VTIMEZONE
TZID:UTC
BEGIN:STANDARD
TZOFFSETFROM:+0000
TZOFFSETTO:+0000
TZNAME:UTC
DTSTART:20240101T000000
END:STANDARD
END:VTIMEZONE
BEGIN:VEVENT
DTSTART;VALUE=DATE:20241014
DTEND;VALUE=DATE:20241015
DTSTAMP:20260420T040039
CREATED:20240807T163517Z
LAST-MODIFIED:20240807T163517Z
UID:10000011-1728864000-1728950399@irasdaycare.com
SUMMARY:Italian Heritage Day / Indigenous People's Day (Schools Closed UPK ONLY)
DESCRIPTION:
URL:https://irasdaycare.com/event/italian-heritage-day-indigenous-peoples-day-schools-closed-upk-only/
END:VEVENT
BEGIN:VEVENT
DTSTART;VALUE=DATE:20241003
DTEND;VALUE=DATE:20241005
DTSTAMP:20260420T040039
CREATED:20240807T162108Z
LAST-MODIFIED:20240807T162108Z
UID:10000001-1727913600-1728086399@irasdaycare.com
SUMMARY:Rosh Hashanah (Schools Closed)
DESCRIPTION:
URL:https://irasdaycare.com/event/rosh-hashanah-schools-closed/
END:VEVENT
BEGIN:VEVENT
DTSTART;VALUE=DATE:20240905
DTEND;VALUE=DATE:20240906
DTSTAMP:20260420T040039
CREATED:20240807T163429Z
LAST-MODIFIED:20240807T164315Z
UID:10000010-1725494400-1725580799@irasdaycare.com
SUMMARY:First Day of 3k and 4k
DESCRIPTION:
URL:https://irasdaycare.com/event/first-day-of-3k-and-4k-no-upk-classes/
END:VEVENT
END:VCALENDAR