BEGIN:VCALENDAR
VERSION:2.0
PRODID:-//Iras Briarwood Daycare - ECPv6.6.1//NONSGML v1.0//EN
CALSCALE:GREGORIAN
METHOD:PUBLISH
X-ORIGINAL-URL:https://irasdaycare.com
X-WR-CALDESC:Events for Iras Briarwood Daycare
REFRESH-INTERVAL;VALUE=DURATION:PT1H
X-Robots-Tag:noindex
X-PUBLISHED-TTL:PT1H
BEGIN:VTIMEZONE
TZID:UTC
BEGIN:STANDARD
TZOFFSETFROM:+0000
TZOFFSETTO:+0000
TZNAME:UTC
DTSTART:20250101T000000
END:STANDARD
END:VTIMEZONE
BEGIN:VEVENT
DTSTART;VALUE=DATE:20250414
DTEND;VALUE=DATE:20250415
DTSTAMP:20260420T070829
CREATED:20240807T163201Z
LAST-MODIFIED:20240807T163201Z
UID:10000007-1744588800-1744675199@irasdaycare.com
SUMMARY:Passover (Schools Closed)
DESCRIPTION:
URL:https://irasdaycare.com/event/passover-schools-closed/
END:VEVENT
BEGIN:VEVENT
DTSTART;VALUE=DATE:20250414
DTEND;VALUE=DATE:20250419
DTSTAMP:20260420T070829
CREATED:20240807T164126Z
LAST-MODIFIED:20240807T164126Z
UID:10000020-1744588800-1745020799@irasdaycare.com
SUMMARY:Spring Recess (Schools Closed UPK ONLY)
DESCRIPTION:
URL:https://irasdaycare.com/event/spring-recess-schools-closed-upk-only/
END:VEVENT
BEGIN:VEVENT
DTSTART;VALUE=DATE:20250526
DTEND;VALUE=DATE:20250527
DTSTAMP:20260420T070829
CREATED:20240807T163229Z
LAST-MODIFIED:20240807T163229Z
UID:10000008-1748217600-1748303999@irasdaycare.com
SUMMARY:Memorial Day (Schools Closed)
DESCRIPTION:
URL:https://irasdaycare.com/event/memorial-day-schools-closed/
END:VEVENT
BEGIN:VEVENT
DTSTART;VALUE=DATE:20250605
DTEND;VALUE=DATE:20250607
DTSTAMP:20260420T070829
CREATED:20240807T164209Z
LAST-MODIFIED:20240807T164209Z
UID:10000021-1749081600-1749254399@irasdaycare.com
SUMMARY:Professional Development (NO 3K & 4K)
DESCRIPTION:
URL:https://irasdaycare.com/event/professional-development-no-3k-4k-2/
END:VEVENT
BEGIN:VEVENT
DTSTART;VALUE=DATE:20250619
DTEND;VALUE=DATE:20250620
DTSTAMP:20260420T070829
CREATED:20240807T164237Z
LAST-MODIFIED:20240807T164237Z
UID:10000022-1750291200-1750377599@irasdaycare.com
SUMMARY:Juneteenth (Schools Closed UPK ONLY)
DESCRIPTION:
URL:https://irasdaycare.com/event/juneteenth-schools-closed-upk-only/
END:VEVENT
BEGIN:VEVENT
DTSTART;VALUE=DATE:20250626
DTEND;VALUE=DATE:20250627
DTSTAMP:20260420T070829
CREATED:20240807T164301Z
LAST-MODIFIED:20240807T164301Z
UID:10000023-1750896000-1750982399@irasdaycare.com
SUMMARY:Last Day of 3K & 4K
DESCRIPTION:
URL:https://irasdaycare.com/event/last-day-of-3k-4k/
END:VEVENT
BEGIN:VEVENT
DTSTART;VALUE=DATE:20250704
DTEND;VALUE=DATE:20250705
DTSTAMP:20260420T070829
CREATED:20240807T163250Z
LAST-MODIFIED:20240807T163250Z
UID:10000009-1751587200-1751673599@irasdaycare.com
SUMMARY:Independence Day (Schools Closed)
DESCRIPTION:
URL:https://irasdaycare.com/event/independence-day-schools-closed/
END:VEVENT
END:VCALENDAR